BEGIN:VCALENDAR
VERSION:2.0
PRODID:-//Barcelona Capital Nàutica - ECPv6.0.10//NONSGML v1.0//EN
CALSCALE:GREGORIAN
METHOD:PUBLISH
X-ORIGINAL-URL:https://www.barcelonacapitalnautica.org/es/
X-WR-CALDESC:Events for Barcelona Capital Nàutica
REFRESH-INTERVAL;VALUE=DURATION:PT1H
X-Robots-Tag:noindex
X-PUBLISHED-TTL:PT1H
BEGIN:VTIMEZONE
TZID:Europe/Madrid
BEGIN:DAYLIGHT
TZOFFSETFROM:+0100
TZOFFSETTO:+0200
TZNAME:CEST
DTSTART:20240331T010000
END:DAYLIGHT
BEGIN:STANDARD
TZOFFSETFROM:+0200
TZOFFSETTO:+0100
TZNAME:CET
DTSTART:20241027T010000
END:STANDARD
END:VTIMEZONE
BEGIN:VEVENT
DTSTART;TZID=Europe/Madrid:20240612T180000
DTEND;TZID=Europe/Madrid:20240612T190000
DTSTAMP:20260426T055027
CREATED:20240327T114955Z
LAST-MODIFIED:20240610T094200Z
UID:10000074-1718215200-1718218800@www.barcelonacapitalnautica.org
SUMMARY:Charla: Todo lo que quieres saber sobre la Copa América
DESCRIPTION:El nuevo diario digital The New Barcelona Post se suma a la celebración de la 37a Copa América con un ciclo de charlas dedicado a acercar a la ciudadanía a esta emblemática competición internacional. \nA las 18h en la Antiga Fàbrica Estrella Damm.
URL:https://www.barcelonacapitalnautica.org/esdeveniment/charla-todo-lo-que-quieres-saber-sobre-la-copa-america/
LOCATION:Paraules Salades: Tara Tari de Capucine Trochet
END:VEVENT
END:VCALENDAR