BEGIN:VCALENDAR
VERSION:2.0
PRODID:-//Barcelona Capital Nàutica - ECPv6.0.10//NONSGML v1.0//EN
CALSCALE:GREGORIAN
METHOD:PUBLISH
X-WR-CALNAME:Barcelona Capital Nàutica
X-ORIGINAL-URL:https://www.barcelonacapitalnautica.org/es/
X-WR-CALDESC:Events for Barcelona Capital Nàutica
REFRESH-INTERVAL;VALUE=DURATION:PT1H
X-Robots-Tag:noindex
X-PUBLISHED-TTL:PT1H
BEGIN:VTIMEZONE
TZID:Europe/Madrid
BEGIN:DAYLIGHT
TZOFFSETFROM:+0100
TZOFFSETTO:+0200
TZNAME:CEST
DTSTART:20240331T010000
END:DAYLIGHT
BEGIN:STANDARD
TZOFFSETFROM:+0200
TZOFFSETTO:+0100
TZNAME:CET
DTSTART:20241027T010000
END:STANDARD
END:VTIMEZONE
BEGIN:VEVENT
DTSTART;VALUE=DATE:20240506
DTEND;VALUE=DATE:20240518
DTSTAMP:20260426T054909
CREATED:20240226T130836Z
LAST-MODIFIED:20240226T130923Z
UID:10000048-1714953600-1715990399@www.barcelonacapitalnautica.org
SUMMARY:Regata Solo Med 2024
DESCRIPTION:
URL:https://www.barcelonacapitalnautica.org/esdeveniment/regata-solo-med-2024/
LOCATION:Paraules Salades: Tara Tari de Capucine Trochet
END:VEVENT
BEGIN:VEVENT
DTSTART;TZID=Europe/Madrid:20240508T160000
DTEND;TZID=Europe/Madrid:20240508T170000
DTSTAMP:20260426T054909
CREATED:20240502T115502Z
LAST-MODIFIED:20240502T115536Z
UID:10000089-1715184000-1715187600@www.barcelonacapitalnautica.org
SUMMARY:La preservación de la información de la America's Cup. Barcelona 2024
DESCRIPTION:
URL:https://www.barcelonacapitalnautica.org/esdeveniment/la-preservacion-de-la-informacion-de-la-americas-cup-barcelona-2024/
LOCATION:Paraules Salades: Tara Tari de Capucine Trochet
END:VEVENT
BEGIN:VEVENT
DTSTART;TZID=Europe/Madrid:20240515T180000
DTEND;TZID=Europe/Madrid:20240515T190000
DTSTAMP:20260426T054909
CREATED:20240327T114638Z
LAST-MODIFIED:20240327T114733Z
UID:10000071-1715796000-1715799600@www.barcelonacapitalnautica.org
SUMMARY:Charla: Todo lo que quieres saber sobre Copa América
DESCRIPTION:El nuevo diario digital The New Barcelona Post se suma a la celebración de la 37a Copa América con un ciclo de charlas dedicado a acercar a la ciudadanía a esta emblemática competición internacional. \nA las 18h en la Antiga Fàbrica Estrella Damm.
URL:https://www.barcelonacapitalnautica.org/esdeveniment/charla-todo-lo-que-quieres-saber-sobre-copa-america/
LOCATION:Paraules Salades: Tara Tari de Capucine Trochet
END:VEVENT
BEGIN:VEVENT
DTSTART;TZID=Europe/Madrid:20240517T110000
DTEND;TZID=Europe/Madrid:20240517T115400
DTSTAMP:20260426T054909
CREATED:20240514T094843Z
LAST-MODIFIED:20240514T095150Z
UID:10000096-1715943600-1715946840@www.barcelonacapitalnautica.org
SUMMARY:Presentación del proyecto de Descarbonización de embarcaciones de recreo
DESCRIPTION:El Consejero de Empresa y Trabajo de la Generalitat de Catalunya y Presidente de la Fundació Barcelona Capital Náutica (FBCN)\, Roger Torrent\, presentará el proyecto de Descarbonización de Embarcaciones de Recreo\, que se enmarca como uno de los proyectos de legado clave en el marco de la 37a Copa América y que debe servir para impulsar y dinamizar el sector náutico catalán. Durante el acto se conocerán los detalles de la iniciativa\, así como los primeros avances de la misma. \nDía: Viernes 17 mayo\, 2024 \nHora: 11’00h a 11’45h  \nUbicación: Port Marina de Palamós (c/ Salvador Albert i Pey\, s/n\, Palamós)
URL:https://www.barcelonacapitalnautica.org/esdeveniment/presentacion-del-proyecto-de-descarbonizacion-de-embarcaciones-de-recreo/
LOCATION:Paraules Salades: Tara Tari de Capucine Trochet
END:VEVENT
BEGIN:VEVENT
DTSTART;TZID=Europe/Madrid:20240518T000000
DTEND;TZID=Europe/Madrid:20240519T235959
DTSTAMP:20260426T054909
CREATED:20240514T095321Z
LAST-MODIFIED:20240514T095857Z
UID:10000098-1715990400-1716163199@www.barcelonacapitalnautica.org
SUMMARY:Palamós Tierra de Mar
DESCRIPTION:Del 17 al 19 de mayo nos encontrarás en Palamós Terra de Mar\, el festival marítimo que quiere celebrar la histórica relación de Palamós con los deportes náuticos a vela. Además\, esta edición se vincula con el evento de competición más importante a nivel mundial: la Louis Vuitton 37ª America’s Cup. ¡No te lo pierdas!
URL:https://www.barcelonacapitalnautica.org/esdeveniment/palamos-tierra-de-mar/
LOCATION:Paraules Salades: Tara Tari de Capucine Trochet
END:VEVENT
BEGIN:VEVENT
DTSTART;VALUE=DATE:20240522
DTEND;VALUE=DATE:20240526
DTSTAMP:20260426T054910
CREATED:20240215T125700Z
LAST-MODIFIED:20240228T103552Z
UID:10000045-1716336000-1716681599@www.barcelonacapitalnautica.org
SUMMARY:Décimo congreso educativo de ciencia: el mar es vida
DESCRIPTION:
URL:https://www.barcelonacapitalnautica.org/esdeveniment/decimos-congreso-educativo-de-ciencia-el-mar-es-vida/
LOCATION:Paraules Salades: Tara Tari de Capucine Trochet
END:VEVENT
BEGIN:VEVENT
DTSTART;TZID=Europe/Madrid:20240524T180000
DTEND;TZID=Europe/Madrid:20240524T220000
DTSTAMP:20260426T054910
CREATED:20240509T094015Z
LAST-MODIFIED:20240521T103412Z
UID:10000092-1716573600-1716588000@www.barcelonacapitalnautica.org
SUMMARY:SAIL IN Tour Barcelona
DESCRIPTION:
URL:https://www.barcelonacapitalnautica.org/esdeveniment/sail-in-tour/
LOCATION:Paraules Salades: Tara Tari de Capucine Trochet
END:VEVENT
BEGIN:VEVENT
DTSTART;VALUE=DATE:20240525
DTEND;VALUE=DATE:20240527
DTSTAMP:20260426T054910
CREATED:20240521T103531Z
LAST-MODIFIED:20240521T103720Z
UID:10000101-1716595200-1716767999@www.barcelonacapitalnautica.org
SUMMARY:Electric Boat Experience
DESCRIPTION:
URL:https://www.barcelonacapitalnautica.org/esdeveniment/electric-boat-experience/
LOCATION:Paraules Salades: Tara Tari de Capucine Trochet
END:VEVENT
BEGIN:VEVENT
DTSTART;TZID=Europe/Madrid:20240526T080000
DTEND;TZID=Europe/Madrid:20240526T170000
DTSTAMP:20260426T054910
CREATED:20240327T121743Z
LAST-MODIFIED:20240327T121825Z
UID:10000086-1716710400-1716742800@www.barcelonacapitalnautica.org
SUMMARY:Regata RC Sailing Barcelona1
DESCRIPTION:Regata del proyecto educativo universitario RC Sailing Barcelona.
URL:https://www.barcelonacapitalnautica.org/esdeveniment/regata-rc-sailing-barcelona1/
LOCATION:Paraules Salades: Tara Tari de Capucine Trochet
END:VEVENT
END:VCALENDAR